BEGIN:VCALENDAR
VERSION:2.0
PRODID:-//eventon.com NONSGML v1.0//EN
CALSCALE:GREGORIAN
METHOD:PUBLISH
BEGIN:VEVENT
UID:69e887d93a30c
DTSTAMP:20260422T083329Z
DTSTART:20241224
DTEND:20241225
LOCATION:
SUMMARY:Christmas Eve
DESCRIPTION:Christmas Eve\nhttps://www.hmvcpa.com/events/christmas-eve/
URL:https://www.hmvcpa.com/events/christmas-eve/
END:VEVENT
END:VCALENDAR